BEGIN:VCALENDAR
VERSION:2.0
PRODID:spatie/icalendar-generator
DESCRIPTION:Veranstaltungen von Unteroffizierheimgesellschaft Munster Kaser
 ne Panzertruppenschule e.V.
X-WR-CALDESC:Veranstaltungen von Unteroffizierheimgesellschaft Munster Kase
 rne Panzertruppenschule e.V.
REFRESH-INTERVAL;VALUE=DURATION:PT1440M
X-PUBLISHED-TTL:PT1440M
BEGIN:VTIMEZONE
TZID:Etc/GMT+0
BEGIN:STANDARD
DTSTART:20250721T083000Z
TZOFFSETFROM:+0000
TZOFFSETTO:+0000
END:STANDARD
END:VTIMEZONE
BEGIN:VTIMEZONE
TZID:UTC
BEGIN:STANDARD
DTSTART:20250725T131700Z
TZOFFSETFROM:+0000
TZOFFSETTO:+0000
END:STANDARD
END:VTIMEZONE
BEGIN:VEVENT
UID:16-3
DTSTAMP:20260421T131700Z
SUMMARY:Frühstücksbuffet
LOCATION:UHG am Park 331  Munster Niedersachsen 29633
ORGANIZER;CN=admin:MAILTO:wp-admin@uhg-panzertruppenschule.de
RRULE:FREQ=MONTHLY;BYDAY=3FR;UNTIL=20260718T000000Z
DTSTART;TZID=Etc/GMT+0:20260417T083000
DTEND;TZID=Etc/GMT+0:20260417T103000
X-ALT-DESC;FMTTYPE=TEXT/HTML:Kosten: 10 € pro Person. Anmeldung erforderl
 ich. Kontakt: Heimfeldwebel 05192 9826 4690\; AllgFspWNBw: 90 2824 4690 Ti
 schreservierung 05192 9826 4692\; AllgFspWNBw: 90 2824 4692
CATEGORIES:Buffet/Essen
URL;VALUE=URI:http://uhg-pztrs-munster.de/mc-events/fruehstuecksbuffet/?mc_
 id=16
METHOD:PUBLISH
END:VEVENT
END:VCALENDAR