BEGIN:VCALENDAR
VERSION:2.0
PRODID:spatie/icalendar-generator
DESCRIPTION:Veranstaltungen von Unteroffizierheimgesellschaft Munster Kaser
 ne Panzertruppenschule e.V.
X-WR-CALDESC:Veranstaltungen von Unteroffizierheimgesellschaft Munster Kase
 rne Panzertruppenschule e.V.
REFRESH-INTERVAL;VALUE=DURATION:PT1440M
X-PUBLISHED-TTL:PT1440M
BEGIN:VTIMEZONE
TZID:Etc/GMT+0
BEGIN:STANDARD
DTSTART:20250807T000000Z
TZOFFSETFROM:+0000
TZOFFSETTO:+0000
END:STANDARD
END:VTIMEZONE
BEGIN:VTIMEZONE
TZID:UTC
BEGIN:STANDARD
DTSTART:20250727T121640Z
TZOFFSETFROM:+0000
TZOFFSETTO:+0000
END:STANDARD
END:VTIMEZONE
BEGIN:VEVENT
UID:34-12
DTSTAMP:20260423T121640Z
SUMMARY:Geschlossen
LOCATION:UHG am Park 331  Munster Niedersachsen 29633
ORGANIZER;CN=admin:MAILTO:wp-admin@uhg-panzertruppenschule.de
DTSTART;TZID=Etc/GMT+0:20260504T000000
DTEND;TZID=Etc/GMT+0:20260504T070000
X-ALT-DESC;FMTTYPE=TEXT/HTML:Die UHG bleibt über den Maifeiertag und das a
 nschließende Wochenende geschlossen. Kontakt: Heimfeldwebel Tel. 05192 98
 26 4690 AllgFspWNBw 2824 4690
CATEGORIES:Geschlossen
URL;VALUE=URI:http://uhg-pztrs-munster.de/mc-events/geschlossen-6/
METHOD:PUBLISH
END:VEVENT
END:VCALENDAR