BEGIN:VCALENDAR
VERSION:2.0
PRODID:spatie/icalendar-generator
DESCRIPTION:Veranstaltungen von Unteroffizierheimgesellschaft Munster Kaser
 ne Panzertruppenschule e.V.
X-WR-CALDESC:Veranstaltungen von Unteroffizierheimgesellschaft Munster Kase
 rne Panzertruppenschule e.V.
REFRESH-INTERVAL;VALUE=DURATION:PT1440M
X-PUBLISHED-TTL:PT1440M
BEGIN:VTIMEZONE
TZID:Etc/GMT+0
BEGIN:STANDARD
DTSTART:20250804T000000Z
TZOFFSETFROM:+0000
TZOFFSETTO:+0000
END:STANDARD
END:VTIMEZONE
BEGIN:VTIMEZONE
TZID:UTC
BEGIN:STANDARD
DTSTART:20250725T144113Z
TZOFFSETFROM:+0000
TZOFFSETTO:+0000
END:STANDARD
END:VTIMEZONE
BEGIN:VEVENT
UID:35-11
DTSTAMP:20260421T144113Z
SUMMARY:Geschlossen
LOCATION:UHG am Park 331  Munster Niedersachsen 29633
ORGANIZER;CN=admin:MAILTO:wp-admin@uhg-panzertruppenschule.de
RRULE:FREQ=DAILY;UNTIL=20260503T000000Z
DTSTART;TZID=Etc/GMT+0;VALUE=DATE:20260501
DTEND;TZID=Etc/GMT+0;VALUE=DATE:20260502
X-ALT-DESC;FMTTYPE=TEXT/HTML:Die UHG bleibt über den Maifeiertag und das a
 nschließende Wochenende geschlossen. Kontakt: Heimfeldwebel Tel. 05192 98
 26 4690\; AllgFspWNBw: 2824 4690
CATEGORIES:Geschlossen
URL;VALUE=URI:http://uhg-pztrs-munster.de/mc-events/geschlossen-5/?mc_id=35
METHOD:PUBLISH
END:VEVENT
END:VCALENDAR