BEGIN:VCALENDAR
VERSION:2.0
PRODID:spatie/icalendar-generator
DESCRIPTION:Veranstaltungen von Unteroffizierheimgesellschaft Munster Kaser
 ne Panzertruppenschule e.V.
X-WR-CALDESC:Veranstaltungen von Unteroffizierheimgesellschaft Munster Kase
 rne Panzertruppenschule e.V.
REFRESH-INTERVAL;VALUE=DURATION:PT1440M
X-PUBLISHED-TTL:PT1440M
BEGIN:VTIMEZONE
TZID:Etc/GMT+0
BEGIN:STANDARD
DTSTART:20250913T164500Z
TZOFFSETFROM:+0000
TZOFFSETTO:+0000
END:STANDARD
END:VTIMEZONE
BEGIN:VTIMEZONE
TZID:UTC
BEGIN:STANDARD
DTSTART:20250725T144709Z
TZOFFSETFROM:+0000
TZOFFSETTO:+0000
END:STANDARD
END:VTIMEZONE
BEGIN:VEVENT
UID:7-2
DTSTAMP:20260421T144709Z
SUMMARY:SchlaMi
LOCATION:
ORGANIZER;CN=admin:MAILTO:wp-admin@uhg-panzertruppenschule.de
RRULE:FREQ=MONTHLY;BYDAY=2WE;UNTIL=20260709T000000Z
DTSTART;TZID=Etc/GMT+0:20260610T164500
DTEND;TZID=Etc/GMT+0:20260610T184500
X-ALT-DESC;FMTTYPE=TEXT/HTML:<p>Nur für Mitglieder.</p>\n<p>Es gelten die 
 SchlaMi-Regeln  .</p>\n
CATEGORIES:schlaMi
URL;VALUE=URI:http://uhg-pztrs-munster.de/mc-events/schlami/?mc_id=7
METHOD:PUBLISH
END:VEVENT
END:VCALENDAR